BEGIN:VCALENDAR
VERSION:2.0
PRODID:-//SYLVIE HÉBERT - ECPv4.9.4//NONSGML v1.0//EN
CALSCALE:GREGORIAN
METHOD:PUBLISH
X-WR-CALNAME:SYLVIE HÉBERT
X-ORIGINAL-URL:http://www.hebertlab.ca/en
X-WR-CALDESC:Évènements pour SYLVIE HÉBERT
BEGIN:VTIMEZONE
TZID:"America/Toronto"
BEGIN:DAYLIGHT
TZOFFSETFROM:-0500
TZOFFSETTO:-0400
TZNAME:EDT
DTSTART:20150308T070000
END:DAYLIGHT
BEGIN:STANDARD
TZOFFSETFROM:-0400
TZOFFSETTO:-0500
TZNAME:EST
DTSTART:20151101T060000
END:STANDARD
END:VTIMEZONE
BEGIN:VEVENT
DTSTART;VALUE=DATE:20151021
DTEND;VALUE=DATE:20151024
DTSTAMP:20260420T090239
CREATED:20151004T190127Z
LAST-MODIFIED:20151008T001017Z
UID:997-1445385600-1445644799@www.hebertlab.ca
SUMMARY:Tenth anniversary symposium of BRAMS
DESCRIPTION:\n\nYou are cordially invited to join BRAMS co-directors Isabelle Peretz and Robert Zatorre\, and their colleagues and students\, to celebrate the tenth anniversary of the founding of the lab. \nOver the last decade BRAMS has grown and prospered to become one of the well-recognized groups worldwide for research on music\, speech\, and human auditory cognitive neuroscience. In this anniversary symposium we have invited several prominent scientists to help us think about where the next ten years of research should be taking us. To that end we will cover novel topics including genetics\, education\, aging\, and social neuroscience. \nThe anniversary event will also feature a session organized by the Erasmus Mundus program in Auditory Cognitive Neuroscience\, featuring faculty and student presentations from this network representing ten European countries\, Canada\, and the USA. \nFor schedule and program\, click here!  \n\n
URL:http://www.hebertlab.ca/en/event/10e-anniversaire-du-brams/
LOCATION:Amphithéâtre Ernest-Cormier\, UdeM (day 1)\, et Jeanne Timmins Amphitheater\, McGill (day 2)
ORGANIZER;CN="Johanne%20David":MAILTO:johanne.david.1@umontreal.ca 
END:VEVENT
END:VCALENDAR